BEGIN:VCALENDAR
VERSION:2.0
PRODID:-//Lebensfroh Senioren- und Alltagsbetreuung - ECPv6.15.20//NONSGML v1.0//EN
CALSCALE:GREGORIAN
METHOD:PUBLISH
X-WR-CALNAME:Lebensfroh Senioren- und Alltagsbetreuung
X-ORIGINAL-URL:https://www.alltagsbetreuung-halle.de
X-WR-CALDESC:Veranstaltungen für Lebensfroh Senioren- und Alltagsbetreuung
REFRESH-INTERVAL;VALUE=DURATION:PT1H
X-Robots-Tag:noindex
X-PUBLISHED-TTL:PT1H
BEGIN:VTIMEZONE
TZID:Europe/Berlin
BEGIN:DAYLIGHT
TZOFFSETFROM:+0100
TZOFFSETTO:+0200
TZNAME:CEST
DTSTART:20220327T010000
END:DAYLIGHT
BEGIN:STANDARD
TZOFFSETFROM:+0200
TZOFFSETTO:+0100
TZNAME:CET
DTSTART:20221030T010000
END:STANDARD
BEGIN:DAYLIGHT
TZOFFSETFROM:+0100
TZOFFSETTO:+0200
TZNAME:CEST
DTSTART:20230326T010000
END:DAYLIGHT
BEGIN:STANDARD
TZOFFSETFROM:+0200
TZOFFSETTO:+0100
TZNAME:CET
DTSTART:20231029T010000
END:STANDARD
BEGIN:DAYLIGHT
TZOFFSETFROM:+0100
TZOFFSETTO:+0200
TZNAME:CEST
DTSTART:20240331T010000
END:DAYLIGHT
BEGIN:STANDARD
TZOFFSETFROM:+0200
TZOFFSETTO:+0100
TZNAME:CET
DTSTART:20241027T010000
END:STANDARD
END:VTIMEZONE
BEGIN:VEVENT
DTSTART;TZID=Europe/Berlin:20230322T080000
DTEND;TZID=Europe/Berlin:20230322T170000
DTSTAMP:20260419T175437
CREATED:20230214T221527Z
LAST-MODIFIED:20230216T202607Z
UID:3891374-1679472000-1679504400@www.alltagsbetreuung-halle.de
SUMMARY:Kulturelle Veranstaltung
DESCRIPTION:22. März 2023 | 13:00 Uhr – 16:00 Uhr | \nKulturelle Veranstaltung\nAm Mittwoch\, den 15.03.23 laden wir Sie herzlich zu einem Ausflug ein. Lassen Sie sich von uns überraschen. \nAnmeldeschluss: 15.03.2023 \n  \n 
URL:https://www.alltagsbetreuung-halle.de/event/kulturelle-veranstaltung/
LOCATION:Lebensfroh Senioren-/Alltagsbetreuung\, Delitzscher Str. 106\, 06116 Halle (Saale)
ORGANIZER;CN="Lebensfroh Senioren-/Alltagsbetreuung":MAILTO:info@alltagsbetreuung-halle.de
END:VEVENT
END:VCALENDAR