BEGIN:VCALENDAR
VERSION:2.0
PRODID:-//Lebensfroh Senioren- und Alltagsbetreuung - ECPv6.15.20//NONSGML v1.0//EN
CALSCALE:GREGORIAN
METHOD:PUBLISH
X-ORIGINAL-URL:https://www.alltagsbetreuung-halle.de
X-WR-CALDESC:Veranstaltungen für Lebensfroh Senioren- und Alltagsbetreuung
REFRESH-INTERVAL;VALUE=DURATION:PT1H
X-Robots-Tag:noindex
X-PUBLISHED-TTL:PT1H
BEGIN:VTIMEZONE
TZID:Europe/Berlin
BEGIN:DAYLIGHT
TZOFFSETFROM:+0100
TZOFFSETTO:+0200
TZNAME:CEST
DTSTART:20220327T010000
END:DAYLIGHT
BEGIN:STANDARD
TZOFFSETFROM:+0200
TZOFFSETTO:+0100
TZNAME:CET
DTSTART:20221030T010000
END:STANDARD
BEGIN:DAYLIGHT
TZOFFSETFROM:+0100
TZOFFSETTO:+0200
TZNAME:CEST
DTSTART:20230326T010000
END:DAYLIGHT
BEGIN:STANDARD
TZOFFSETFROM:+0200
TZOFFSETTO:+0100
TZNAME:CET
DTSTART:20231029T010000
END:STANDARD
BEGIN:DAYLIGHT
TZOFFSETFROM:+0100
TZOFFSETTO:+0200
TZNAME:CEST
DTSTART:20240331T010000
END:DAYLIGHT
BEGIN:STANDARD
TZOFFSETFROM:+0200
TZOFFSETTO:+0100
TZNAME:CET
DTSTART:20241027T010000
END:STANDARD
END:VTIMEZONE
BEGIN:VEVENT
DTSTART;TZID=Europe/Berlin:20230508T100000
DTEND;TZID=Europe/Berlin:20230508T130000
DTSTAMP:20260419T143532
CREATED:20230216T201316Z
LAST-MODIFIED:20230216T202607Z
UID:3891402-1683540000-1683550800@www.alltagsbetreuung-halle.de
SUMMARY:Picknick auf der Alpakawiese
DESCRIPTION:08. Mai 2023 | 10:00 Uhr – 13:00 Uhr | \nPicknick auf der Alpakawiese\nAm Montag\, den 08.05.23 laden wir Sie herzlich zu einem Ausflug auf die Alpakawiese ein. Mit einem gemeinsamen Picknick lassen wir den tierischen Vormittag ausklingen. \nAnmeldeschluss: 24.04.2023 \n 
URL:https://www.alltagsbetreuung-halle.de/event/picknick-auf-der-alpakawiese/
END:VEVENT
BEGIN:VEVENT
DTSTART;TZID=Europe/Berlin:20230525T093000
DTEND;TZID=Europe/Berlin:20230525T140000
DTSTAMP:20260419T143532
CREATED:20230216T201755Z
LAST-MODIFIED:20230216T202607Z
UID:3891406-1685007000-1685023200@www.alltagsbetreuung-halle.de
SUMMARY:Minigolf am Hufeisensee
DESCRIPTION:25. Mai 2023 |  09:30 Uhr – ca. 13/14 Uhr | \nMinigolf am Hufeisensee inkl. Snacks\nAm Donnerstag\, den 25.05.23 laden wir Sie herzlich zu einem aktiven Ausflug auf den Golfplatz ein. Für Ihr leibliches Wohl wird gesorgt. \nAnmeldeschluss: 11.05.2023 \n 
URL:https://www.alltagsbetreuung-halle.de/event/minigolf-am-hufeisensee/
LOCATION:Lebensfroh Senioren-/Alltagsbetreuung\, Delitzscher Str. 106\, 06116 Halle (Saale)
ORGANIZER;CN="Lebensfroh Senioren-/Alltagsbetreuung":MAILTO:info@alltagsbetreuung-halle.de
END:VEVENT
END:VCALENDAR